BEGIN:VCALENDAR
VERSION:2.0
PRODID:-//Tukios.com/
BEGIN:VEVENT
UID:2073fcc3-1bdd-4900-8904-49866fc58ad5@www.hartsmort.com
DTSTAMP:20260421T203502Z
DTSTART:20260426T180000Z
DTEND:20260426T200000Z
SUMMARY:Visitation
DESCRIPTION:
URL:https://www.hartsmort.com/obituaries/sybil-barkley
LOCATION:Hart’s at the Cupola 6324 Peake Road  Macon GA 31210
GEO:32.8734285;-83.7601655
END:VEVENT
END:VCALENDAR