BEGIN:VCALENDAR
VERSION:2.0
PRODID:-//Tukios.com/
BEGIN:VEVENT
UID:76f7e813-9a81-41ef-b57a-ee293a06a14a@www.hartsmort.com
DTSTAMP:20260423T225540Z
DTSTART:20260427T210000Z
DTEND:20260427T230000Z
SUMMARY:Visitation
DESCRIPTION:
URL:https://www.hartsmort.com/obituaries/linda-oneal
LOCATION:Real Life Church 2491 Gray Highway  Macon GA 31211
GEO:32.8855533;-83.599834
END:VEVENT
END:VCALENDAR