BEGIN:VCALENDAR
VERSION:2.0
PRODID:-//Tukios.com/
BEGIN:VEVENT
UID:11ff4db9-91e7-4643-bb66-6b357362e7ce@www.hartsmort.com
DTSTAMP:20260423T225647Z
DTSTART:20260428T170000Z
DTEND:20260428T180000Z
SUMMARY:Memorial Service
DESCRIPTION:
URL:https://www.hartsmort.com/obituaries/linda-oneal
LOCATION:Real Life Church 2491 Gray Highway  Macon GA 31211
GEO:32.8855533;-83.599834
END:VEVENT
END:VCALENDAR